BEGIN:VCALENDAR
VERSION:2.0
PRODID:-//Mexicali Biennial - ECPv6.15.17.1//NONSGML v1.0//EN
CALSCALE:GREGORIAN
METHOD:PUBLISH
X-WR-CALNAME:Mexicali Biennial
X-ORIGINAL-URL:https://mexicalibiennial.org
X-WR-CALDESC:Events for Mexicali Biennial
REFRESH-INTERVAL;VALUE=DURATION:PT1H
X-Robots-Tag:noindex
X-PUBLISHED-TTL:PT1H
BEGIN:VTIMEZONE
TZID:America/Los_Angeles
BEGIN:DAYLIGHT
TZOFFSETFROM:-0800
TZOFFSETTO:-0700
TZNAME:PDT
DTSTART:20240310T100000
END:DAYLIGHT
BEGIN:STANDARD
TZOFFSETFROM:-0700
TZOFFSETTO:-0800
TZNAME:PST
DTSTART:20241103T090000
END:STANDARD
BEGIN:DAYLIGHT
TZOFFSETFROM:-0800
TZOFFSETTO:-0700
TZNAME:PDT
DTSTART:20250309T100000
END:DAYLIGHT
BEGIN:STANDARD
TZOFFSETFROM:-0700
TZOFFSETTO:-0800
TZNAME:PST
DTSTART:20251102T090000
END:STANDARD
BEGIN:DAYLIGHT
TZOFFSETFROM:-0800
TZOFFSETTO:-0700
TZNAME:PDT
DTSTART:20260308T100000
END:DAYLIGHT
BEGIN:STANDARD
TZOFFSETFROM:-0700
TZOFFSETTO:-0800
TZNAME:PST
DTSTART:20261101T090000
END:STANDARD
END:VTIMEZONE
BEGIN:VEVENT
DTSTART;TZID=America/Los_Angeles:20250906T180000
DTEND;TZID=America/Los_Angeles:20250906T210000
DTSTAMP:20260421T010512
CREATED:20250731T203628Z
LAST-MODIFIED:20250903T235405Z
UID:3459-1757181600-1757192400@mexicalibiennial.org
SUMMARY:PARA/normal Borders Supper Club 3: Asada/Transborder Aesthetics - Part II
DESCRIPTION:This event is at capacity. If you RSVP’d but have not received directions/information\, please email info@mexicalibiennial.org. Thank you. \nThe PARA/normal Borders Supper Club continues by bringing a traditional Mexicali-style asada with an extra-terrestrial twist as imagined by Colectivo Bajaghost and Bibiana Padilla Maltos. Asada/Transborder Aesthetics – Part II will be held at a private residence in Whittier. The evening will include Tortilla borderiza – a durational performance evoking a combination of mail art hand carved stamping and ceremonial tortillas. This border tortilla is meant to summon the period in which the chain link fence was taken down completely to be replaced with the 30-foot metal beam. A brief moment in which there was a ghost of a fence\, an invisible force\, a nothingness. \nThank you to our drink sponsor Brewjeria Company. \nDetails will be sent prior to the dinner. Please read this page in its entirety if interested in attending.  \nMenu: \n\nAbout PARA/normal Borders Supper Club:\nThis dinner series invites artists/creatives/chefs to craft food and drinks that translocate between distinctive settings in private residences and creative spaces across Southern and Baja Californias. Supper Club attendees are invited to share paranormal experiences\, urban legends\, and personal stories while enjoying a delicious meal. These happenings are part of the MexiCali Biennial’s PARA/normal Borders Lab\, whose aim is to share\, listen\, and evaluate stories in order to gain a better understanding of our “borders” both real and metaphorical and to inform and shape the upcoming 2026 -27 MexiCali Biennial. \nATTENTION: To attend Supper Club\, there is a two-step process. First\, please fill out the attendant waiver form. Read through in its entirety and answer the simple prompts. You must fill out the waiver to attend MexiCali Biennial\, Inc. food-related event. Second\, make sure to RSVP below. If you have not received info by September 5\, email info@mexicalibiennial.org. *Supper Club events are currently PAY WHAT YOU CAN. We welcome donations to the MexiCali Biennial through PayPal \, Venmo \, and Zelle. You can pay before\, during\, or after the dinner. Any amount helps fund future events. PLEASE RSVP BELOW.
URL:https://mexicalibiennial.org/event/paranormal-borders-supper-club-3-asada-transborder-aesthetics-part-ii/
LOCATION:CA
CATEGORIES:Events
ATTACH;FMTTYPE=image/jpeg:https://mexicalibiennial.org/wp-content/uploads/2025/07/event-thumbnail-1920-x-1080-px-1.jpg
ORGANIZER;CN="MexiCali Biennial":MAILTO:info@mexicalibiennial.org
END:VEVENT
BEGIN:VEVENT
DTSTART;TZID=America/Los_Angeles:20250913T180000
DTEND;TZID=America/Los_Angeles:20250913T210000
DTSTAMP:20260421T010512
CREATED:20250903T213136Z
LAST-MODIFIED:20250903T213136Z
UID:3588-1757786400-1757797200@mexicalibiennial.org
SUMMARY:Opening Reception of ANGER IS AN ENERGY with live screenprinting
DESCRIPTION:Join us for the opening reception of ANGER IS AN ENERGY: The Punk Alchemy of Miyo & Usen Print Editions \nLive screenprinting event during opening night led by Dewey Tafoya\, lead printer & Assistant Director of the Professional Printmaking Program at Self Help Graphics. Bring your own t-shirt and a $5 donation. All funds donated to CHIRLA. \nRead more about the exhibition HERE.
URL:https://mexicalibiennial.org/event/opening-reception-of-anger-is-an-energy-with-live-screenprinting/
LOCATION:MXCL BNL LAB\, 6545 Greenleaf Ave\, Whittier\, CA\, 90601
CATEGORIES:Events
ATTACH;FMTTYPE=image/jpeg:https://mexicalibiennial.org/wp-content/uploads/2025/09/event-thumbnail-1920-x-1080-px-11.jpg
ORGANIZER;CN="MexiCali Biennial":MAILTO:info@mexicalibiennial.org
END:VEVENT
BEGIN:VEVENT
DTSTART;TZID=America/Los_Angeles:20250913T180000
DTEND;TZID=America/Los_Angeles:20251018T170000
DTSTAMP:20260421T010512
CREATED:20250807T183339Z
LAST-MODIFIED:20250924T200916Z
UID:3469-1757786400-1760806800@mexicalibiennial.org
SUMMARY:ANGER IS AN ENERGY: The Punk Alchemy of Miyo & Usen Print Editions
DESCRIPTION:ANGER IS AN ENERGY: The Punk Alchemy of Miyo & Usen Print Editions explores the themes of knowledge/connection with the land\, collaboration\, and experimentation in the printmaking and collaborative print projects of artists Miyo Stevens-Gandara and Usen Gandara. Based in Whittier\, California\, these master printmakers are pillars of the printmaking community in Los Angeles.  \nKnown for their attention to quality\, generosity of research spirit\, and a delicacy of technique capable of printerly punk alchemy\, this exhibition celebrates their devotion to the craft\, and their commitment to the community of printmakers on LA’s Eastside and beyond. Through curated exhibitions\, publications and handmade print portfolios\, the artist team have documented and exhibited printmakers from Indiana to Puerto Rico to East Los Angeles. The finely-made print portfolios\, as such\, are an immutable and movable platform for knowing\, sharing and making the worlds we hold in common; connecting us all to the broader graphic universe. \nCURATORIAL OVERVIEW HERE \nANGER IS AN ENERGY features collaborative works by: \nPável Acevedo\, Kay Brown\, Ada Pullini Brown\, Leslie Dolin\, Alex Fridrich-Ward\, Usen Gandara\, Miyo Stevens-Gandara\, Luis Genaro Garcia\, J.Leigh Garcia\, Natalie M. Godinez\, Margaret Griffith\, Rogelio Gutierrez\, Jackie Hernandez\, Phung Huynh\, Dongeun Lee\, Kelvin Lopez\, Rosalie Lopez\, Sandra Low\, Poli Marichal\, Álvaro D. Márquez\, Kimiko Miyoshi\, Dalila Paola Mendez\, Wayne Perry\, Gisela Ramirez\, Sandy Rodriguez\, Victor Rosas\, Marianne Sadowski\, Dewey Tafoya\, Alex Fridrich-Ward\, Christian Salcedo Ward\, Andi Xoch\, and Joan Zamora \nLive screen printing event opening night! Bring a donation and a shirt or tote to for printing! MORE INFO HERE \nANGER IS AN ENERGY is curated by JV Decemvirale. \nCLICK FOR PRESS RELEASE
URL:https://mexicalibiennial.org/event/usen-gandara-miyo-stevens-gandara/
LOCATION:MXCL BNL LAB\, 6545 Greenleaf Ave\, Whittier\, CA\, 90601
CATEGORIES:Exhibitions
ATTACH;FMTTYPE=image/jpeg:https://mexicalibiennial.org/wp-content/uploads/2024/08/event-thumbnail-1920-x-1080-px-8.jpg
ORGANIZER;CN="MexiCali Biennial":MAILTO:info@mexicalibiennial.org
END:VEVENT
END:VCALENDAR