BEGIN:VCALENDAR
VERSION:2.0
PRODID:-//Mexicali Biennial - ECPv6.15.17.1//NONSGML v1.0//EN
CALSCALE:GREGORIAN
METHOD:PUBLISH
X-WR-CALNAME:Mexicali Biennial
X-ORIGINAL-URL:https://mexicalibiennial.org
X-WR-CALDESC:Events for Mexicali Biennial
REFRESH-INTERVAL;VALUE=DURATION:PT1H
X-Robots-Tag:noindex
X-PUBLISHED-TTL:PT1H
BEGIN:VTIMEZONE
TZID:UTC
BEGIN:STANDARD
TZOFFSETFROM:+0000
TZOFFSETTO:+0000
TZNAME:UTC
DTSTART:20240101T000000
END:STANDARD
END:VTIMEZONE
BEGIN:VEVENT
DTSTART;TZID=UTC:20250311T080000
DTEND;TZID=UTC:20250322T170000
DTSTAMP:20260422T011945
CREATED:20250311T040408Z
LAST-MODIFIED:20250311T040408Z
UID:2913-1741680000-1742662800@mexicalibiennial.org
SUMMARY:MXCL BNL LAB Whittier Closed for Install
DESCRIPTION:Closed through March 22. Join us then for ALMA ENTRE DOS MUNDOS: Aldo Cervantes & Amina Cruz.
URL:https://mexicalibiennial.org/event/mxcl-bnl-lab-whittier-closed-for-install/
LOCATION:MXCL BNL LAB\, 6545 Greenleaf Ave\, Whittier\, CA\, 90601
CATEGORIES:Exhibitions
ATTACH;FMTTYPE=image/png:https://mexicalibiennial.org/wp-content/uploads/2025/03/event-thumbnail-4.png
ORGANIZER;CN="MexiCali Biennial":MAILTO:info@mexicalibiennial.org
END:VEVENT
END:VCALENDAR