BEGIN:VCALENDAR
VERSION:2.0
PRODID:-//Mexicali Biennial - ECPv6.15.17.1//NONSGML v1.0//EN
CALSCALE:GREGORIAN
METHOD:PUBLISH
X-WR-CALNAME:Mexicali Biennial
X-ORIGINAL-URL:https://mexicalibiennial.org
X-WR-CALDESC:Events for Mexicali Biennial
REFRESH-INTERVAL;VALUE=DURATION:PT1H
X-Robots-Tag:noindex
X-PUBLISHED-TTL:PT1H
BEGIN:VTIMEZONE
TZID:UTC
BEGIN:STANDARD
TZOFFSETFROM:+0000
TZOFFSETTO:+0000
TZNAME:UTC
DTSTART:20220101T000000
END:STANDARD
END:VTIMEZONE
BEGIN:VEVENT
DTSTART;TZID=UTC:20231013T160000
DTEND;TZID=UTC:20231013T180000
DTSTAMP:20260421T160728
CREATED:20230912T175043Z
LAST-MODIFIED:20230912T175216Z
UID:1740-1697212800-1697220000@mexicalibiennial.org
SUMMARY:Land of Milk & Honey opening reception at Steppling Art Gallery
DESCRIPTION:Join us for an artist reception and Land of Milk & Honey border events kick-off. Steppling Art Gallery is located on the campus of San Diego State University Imperial Valley Campus in Calexico\, CA. This group exhibition consists of multimedia artworks and installations inside the gallery as well as on the campus grounds. CLICK HERE FOR MORE INFORMATION.
URL:https://mexicalibiennial.org/event/land-of-milk-honey-opening-reception-at-steppling-art-gallery/
LOCATION:STEPPLING ART GALLERY\, 720 Heber Ave.\, Calexico\, CA\, 92231\, United States
ATTACH;FMTTYPE=image/jpeg:https://mexicalibiennial.org/wp-content/uploads/2022/08/narsiso1.jpg
ORGANIZER;CN="MexiCali Biennial":MAILTO:info@mexicalibiennial.org
END:VEVENT
BEGIN:VEVENT
DTSTART;TZID=UTC:20231013T190000
DTEND;TZID=UTC:20231013T210000
DTSTAMP:20260421T160728
CREATED:20230912T181439Z
LAST-MODIFIED:20230912T181624Z
UID:1747-1697223600-1697230800@mexicalibiennial.org
SUMMARY:Pulquería Chilote
DESCRIPTION:Artist Isidro Pérez García explores his familial connection to the way of life and the cosmos contained in the maguey plant through pulque. Pérez García has created a large scale table and chairs for participants to utilize\, creating a setting that is playful and indicative of folk artistry. Participants will be able to interact with the chairs and table and be served pulque at experimental artspace casa la linea – arte contemporaneo. CLICK HERE FOR PRESS KIT AND EVENTS.
URL:https://mexicalibiennial.org/event/pulqueria-chilote/
LOCATION:casa la linea – arte contemporaneo\, 947 E 1st St\, Calexico\, CA\, 92231\, United States
ATTACH;FMTTYPE=image/png:https://mexicalibiennial.org/wp-content/uploads/2023/09/ISIDROTHUMBNAIL.png
ORGANIZER;CN="MexiCali Biennial":MAILTO:info@mexicalibiennial.org
END:VEVENT
END:VCALENDAR